BEGIN:VCALENDAR
VERSION:2.0
PRODID:-//Everett Lions Club - ECPv6.15.20//NONSGML v1.0//EN
CALSCALE:GREGORIAN
METHOD:PUBLISH
X-ORIGINAL-URL:https://everettpalions.net
X-WR-CALDESC:Events for Everett Lions Club
REFRESH-INTERVAL;VALUE=DURATION:PT1H
X-Robots-Tag:noindex
X-PUBLISHED-TTL:PT1H
BEGIN:VTIMEZONE
TZID:UTC
BEGIN:STANDARD
TZOFFSETFROM:+0000
TZOFFSETTO:+0000
TZNAME:UTC
DTSTART:20210101T000000
END:STANDARD
END:VTIMEZONE
BEGIN:VEVENT
DTSTART;TZID=UTC:20230518T183000
DTEND;TZID=UTC:20230518T200000
DTSTAMP:20260420T053118
CREATED:20260217T180548Z
LAST-MODIFIED:20260217T180548Z
UID:10000151-1684434600-1684440000@everettpalions.net
SUMMARY:Meeting at Marteen’s in Everett
DESCRIPTION:Marteen’s in Everett
URL:https://everettpalions.net/event/meeting/2023-05-18/
LOCATION:Marteen’s Restaurant\, 2 W Main St\, Everett\, PA\, 15537\, United States
END:VEVENT
BEGIN:VEVENT
DTSTART;TZID=UTC:20230504T183000
DTEND;TZID=UTC:20230504T200000
DTSTAMP:20260420T053118
CREATED:20210603T215827Z
LAST-MODIFIED:20210604T030538Z
UID:10000034-1683225000-1683230400@everettpalions.net
SUMMARY:Meeting at Marteen’s in Everett
DESCRIPTION:Marteen’s in Everett
URL:https://everettpalions.net/event/meeting/2023-05-04/
LOCATION:Marteen’s Restaurant\, 2 W Main St\, Everett\, PA\, 15537\, United States
END:VEVENT
BEGIN:VEVENT
DTSTART;TZID=UTC:20230420T183000
DTEND;TZID=UTC:20230420T200000
DTSTAMP:20260420T053118
CREATED:20260217T180548Z
LAST-MODIFIED:20260217T180548Z
UID:10000150-1682015400-1682020800@everettpalions.net
SUMMARY:Meeting at Marteen’s in Everett
DESCRIPTION:Marteen’s in Everett
URL:https://everettpalions.net/event/meeting/2023-04-20/
LOCATION:Marteen’s Restaurant\, 2 W Main St\, Everett\, PA\, 15537\, United States
END:VEVENT
BEGIN:VEVENT
DTSTART;TZID=UTC:20230406T183000
DTEND;TZID=UTC:20230406T200000
DTSTAMP:20260420T053118
CREATED:20210603T215827Z
LAST-MODIFIED:20210604T030538Z
UID:10000033-1680805800-1680811200@everettpalions.net
SUMMARY:Meeting at Marteen’s in Everett
DESCRIPTION:Marteen’s in Everett
URL:https://everettpalions.net/event/meeting/2023-04-06/
LOCATION:Marteen’s Restaurant\, 2 W Main St\, Everett\, PA\, 15537\, United States
END:VEVENT
BEGIN:VEVENT
DTSTART;TZID=UTC:20230316T183000
DTEND;TZID=UTC:20230316T200000
DTSTAMP:20260420T053118
CREATED:20260217T180548Z
LAST-MODIFIED:20260217T180548Z
UID:10000149-1678991400-1678996800@everettpalions.net
SUMMARY:Meeting at Marteen’s in Everett
DESCRIPTION:Marteen’s in Everett
URL:https://everettpalions.net/event/meeting/2023-03-16/
LOCATION:Marteen’s Restaurant\, 2 W Main St\, Everett\, PA\, 15537\, United States
END:VEVENT
BEGIN:VEVENT
DTSTART;TZID=UTC:20230302T183000
DTEND;TZID=UTC:20230302T200000
DTSTAMP:20260420T053118
CREATED:20210603T215827Z
LAST-MODIFIED:20210604T030538Z
UID:10000032-1677781800-1677787200@everettpalions.net
SUMMARY:Meeting at Marteen’s in Everett
DESCRIPTION:Marteen’s in Everett
URL:https://everettpalions.net/event/meeting/2023-03-02/
LOCATION:Marteen’s Restaurant\, 2 W Main St\, Everett\, PA\, 15537\, United States
END:VEVENT
BEGIN:VEVENT
DTSTART;TZID=UTC:20230216T183000
DTEND;TZID=UTC:20230216T200000
DTSTAMP:20260420T053118
CREATED:20260217T180548Z
LAST-MODIFIED:20260217T180548Z
UID:10000148-1676572200-1676577600@everettpalions.net
SUMMARY:Meeting at Marteen’s in Everett
DESCRIPTION:Marteen’s in Everett
URL:https://everettpalions.net/event/meeting/2023-02-16/
LOCATION:Marteen’s Restaurant\, 2 W Main St\, Everett\, PA\, 15537\, United States
END:VEVENT
BEGIN:VEVENT
DTSTART;TZID=UTC:20230202T183000
DTEND;TZID=UTC:20230202T200000
DTSTAMP:20260420T053118
CREATED:20210603T215827Z
LAST-MODIFIED:20210604T030538Z
UID:10000031-1675362600-1675368000@everettpalions.net
SUMMARY:Meeting at Marteen’s in Everett
DESCRIPTION:Marteen’s in Everett
URL:https://everettpalions.net/event/meeting/2023-02-02/
LOCATION:Marteen’s Restaurant\, 2 W Main St\, Everett\, PA\, 15537\, United States
END:VEVENT
BEGIN:VEVENT
DTSTART;TZID=UTC:20230119T183000
DTEND;TZID=UTC:20230119T200000
DTSTAMP:20260420T053118
CREATED:20260217T180548Z
LAST-MODIFIED:20260217T180548Z
UID:10000147-1674153000-1674158400@everettpalions.net
SUMMARY:Meeting at Marteen’s in Everett
DESCRIPTION:Marteen’s in Everett
URL:https://everettpalions.net/event/meeting/2023-01-19/
LOCATION:Marteen’s Restaurant\, 2 W Main St\, Everett\, PA\, 15537\, United States
END:VEVENT
BEGIN:VEVENT
DTSTART;TZID=UTC:20230105T183000
DTEND;TZID=UTC:20230105T200000
DTSTAMP:20260420T053118
CREATED:20210603T215827Z
LAST-MODIFIED:20210604T030538Z
UID:10000030-1672943400-1672948800@everettpalions.net
SUMMARY:Meeting at Marteen’s in Everett
DESCRIPTION:Marteen’s in Everett
URL:https://everettpalions.net/event/meeting/2023-01-05/
LOCATION:Marteen’s Restaurant\, 2 W Main St\, Everett\, PA\, 15537\, United States
END:VEVENT
BEGIN:VEVENT
DTSTART;TZID=UTC:20221215T183000
DTEND;TZID=UTC:20221215T200000
DTSTAMP:20260420T053118
CREATED:20260217T180548Z
LAST-MODIFIED:20260217T180548Z
UID:10000146-1671129000-1671134400@everettpalions.net
SUMMARY:Meeting at Marteen’s in Everett
DESCRIPTION:Marteen’s in Everett
URL:https://everettpalions.net/event/meeting/2022-12-15/
LOCATION:Marteen’s Restaurant\, 2 W Main St\, Everett\, PA\, 15537\, United States
END:VEVENT
BEGIN:VEVENT
DTSTART;TZID=UTC:20221201T183000
DTEND;TZID=UTC:20221201T200000
DTSTAMP:20260420T053118
CREATED:20210603T215827Z
LAST-MODIFIED:20210604T030538Z
UID:10000029-1669919400-1669924800@everettpalions.net
SUMMARY:Meeting at Marteen’s in Everett
DESCRIPTION:Marteen’s in Everett
URL:https://everettpalions.net/event/meeting/2022-12-01/
LOCATION:Marteen’s Restaurant\, 2 W Main St\, Everett\, PA\, 15537\, United States
END:VEVENT
BEGIN:VEVENT
DTSTART;TZID=UTC:20221119T070000
DTEND;TZID=UTC:20221119T223000
DTSTAMP:20260420T053118
CREATED:20220919T185157Z
LAST-MODIFIED:20220919T185851Z
UID:10000009-1668841200-1668897000@everettpalions.net
SUMMARY:Pancake and Sausage Breakfast
DESCRIPTION:• All you can eat\n• Donation only
URL:https://everettpalions.net/event/pancake-and-sausage-breakfast/
LOCATION:Everett Church of the Brethren\, 119 E 2nd St\, Everett\, PA\, 15537\, United States
END:VEVENT
BEGIN:VEVENT
DTSTART;TZID=UTC:20221117T183000
DTEND;TZID=UTC:20221117T200000
DTSTAMP:20260420T053118
CREATED:20260217T180548Z
LAST-MODIFIED:20260217T180548Z
UID:10000145-1668709800-1668715200@everettpalions.net
SUMMARY:Meeting at Marteen’s in Everett
DESCRIPTION:Marteen’s in Everett
URL:https://everettpalions.net/event/meeting/2022-11-17/
LOCATION:Marteen’s Restaurant\, 2 W Main St\, Everett\, PA\, 15537\, United States
END:VEVENT
BEGIN:VEVENT
DTSTART;TZID=UTC:20221103T183000
DTEND;TZID=UTC:20221103T200000
DTSTAMP:20260420T053118
CREATED:20210603T215827Z
LAST-MODIFIED:20210604T030538Z
UID:10000028-1667500200-1667505600@everettpalions.net
SUMMARY:Meeting at Marteen’s in Everett
DESCRIPTION:Marteen’s in Everett
URL:https://everettpalions.net/event/meeting/2022-11-03/
LOCATION:Marteen’s Restaurant\, 2 W Main St\, Everett\, PA\, 15537\, United States
END:VEVENT
BEGIN:VEVENT
DTSTART;TZID=UTC:20221020T183000
DTEND;TZID=UTC:20221020T200000
DTSTAMP:20260420T053118
CREATED:20260217T180548Z
LAST-MODIFIED:20260217T180548Z
UID:10000144-1666290600-1666296000@everettpalions.net
SUMMARY:Meeting at Marteen’s in Everett
DESCRIPTION:Marteen’s in Everett
URL:https://everettpalions.net/event/meeting/2022-10-20/
LOCATION:Marteen’s Restaurant\, 2 W Main St\, Everett\, PA\, 15537\, United States
END:VEVENT
BEGIN:VEVENT
DTSTART;TZID=UTC:20221015T170000
DTEND;TZID=UTC:20221015T170000
DTSTAMP:20260420T053118
CREATED:20220919T184635Z
LAST-MODIFIED:20220919T185459Z
UID:10000008-1665853200-1665853200@everettpalions.net
SUMMARY:Horseracing Fundraiser
DESCRIPTION:• Down River Golf Course\n• Doors open at 5pm\, Race starts at 7
URL:https://everettpalions.net/event/horseracing-fundraiser/
LOCATION:DOWN RIVER GOLF COURSE\, 134 RIVERS BEND DRIVE\, EVERETT\, PA
END:VEVENT
BEGIN:VEVENT
DTSTART;TZID=UTC:20221006T183000
DTEND;TZID=UTC:20221006T200000
DTSTAMP:20260420T053118
CREATED:20210603T215827Z
LAST-MODIFIED:20210604T030538Z
UID:10000027-1665081000-1665086400@everettpalions.net
SUMMARY:Meeting at Marteen’s in Everett
DESCRIPTION:Marteen’s in Everett
URL:https://everettpalions.net/event/meeting/2022-10-06/
LOCATION:Marteen’s Restaurant\, 2 W Main St\, Everett\, PA\, 15537\, United States
END:VEVENT
BEGIN:VEVENT
DTSTART;TZID=UTC:20220915T183000
DTEND;TZID=UTC:20220915T200000
DTSTAMP:20260420T053118
CREATED:20260217T180548Z
LAST-MODIFIED:20260217T180548Z
UID:10000143-1663266600-1663272000@everettpalions.net
SUMMARY:Meeting at Marteen’s in Everett
DESCRIPTION:Marteen’s in Everett
URL:https://everettpalions.net/event/meeting/2022-09-15/
LOCATION:Marteen’s Restaurant\, 2 W Main St\, Everett\, PA\, 15537\, United States
END:VEVENT
BEGIN:VEVENT
DTSTART;TZID=UTC:20220901T183000
DTEND;TZID=UTC:20220901T200000
DTSTAMP:20260420T053118
CREATED:20210603T215827Z
LAST-MODIFIED:20210604T030538Z
UID:10000026-1662057000-1662062400@everettpalions.net
SUMMARY:Meeting at Marteen’s in Everett
DESCRIPTION:Marteen’s in Everett
URL:https://everettpalions.net/event/meeting/2022-09-01/
LOCATION:Marteen’s Restaurant\, 2 W Main St\, Everett\, PA\, 15537\, United States
END:VEVENT
BEGIN:VEVENT
DTSTART;TZID=UTC:20220818T183000
DTEND;TZID=UTC:20220818T200000
DTSTAMP:20260420T053118
CREATED:20260217T180548Z
LAST-MODIFIED:20260217T180548Z
UID:10000142-1660847400-1660852800@everettpalions.net
SUMMARY:Meeting at Marteen’s in Everett
DESCRIPTION:Marteen’s in Everett
URL:https://everettpalions.net/event/meeting/2022-08-18/
LOCATION:Marteen’s Restaurant\, 2 W Main St\, Everett\, PA\, 15537\, United States
END:VEVENT
BEGIN:VEVENT
DTSTART;TZID=UTC:20220804T183000
DTEND;TZID=UTC:20220804T200000
DTSTAMP:20260420T053118
CREATED:20210603T215827Z
LAST-MODIFIED:20210604T030538Z
UID:10000025-1659637800-1659643200@everettpalions.net
SUMMARY:Meeting at Marteen’s in Everett
DESCRIPTION:Marteen’s in Everett
URL:https://everettpalions.net/event/meeting/2022-08-04/
LOCATION:Marteen’s Restaurant\, 2 W Main St\, Everett\, PA\, 15537\, United States
END:VEVENT
BEGIN:VEVENT
DTSTART;TZID=UTC:20220721T183000
DTEND;TZID=UTC:20220721T200000
DTSTAMP:20260420T053118
CREATED:20260217T180548Z
LAST-MODIFIED:20260217T180548Z
UID:10000141-1658428200-1658433600@everettpalions.net
SUMMARY:Meeting at Marteen’s in Everett
DESCRIPTION:Marteen’s in Everett
URL:https://everettpalions.net/event/meeting/2022-07-21/
LOCATION:Marteen’s Restaurant\, 2 W Main St\, Everett\, PA\, 15537\, United States
END:VEVENT
BEGIN:VEVENT
DTSTART;TZID=UTC:20220707T183000
DTEND;TZID=UTC:20220707T200000
DTSTAMP:20260420T053118
CREATED:20210603T215827Z
LAST-MODIFIED:20210604T030538Z
UID:10000024-1657218600-1657224000@everettpalions.net
SUMMARY:Meeting at Marteen’s in Everett
DESCRIPTION:Marteen’s in Everett
URL:https://everettpalions.net/event/meeting/2022-07-07/
LOCATION:Marteen’s Restaurant\, 2 W Main St\, Everett\, PA\, 15537\, United States
END:VEVENT
BEGIN:VEVENT
DTSTART;TZID=UTC:20220616T183000
DTEND;TZID=UTC:20220616T200000
DTSTAMP:20260420T053118
CREATED:20260217T180548Z
LAST-MODIFIED:20260217T180548Z
UID:10000140-1655404200-1655409600@everettpalions.net
SUMMARY:Meeting at Marteen’s in Everett
DESCRIPTION:Marteen’s in Everett
URL:https://everettpalions.net/event/meeting/2022-06-16/
LOCATION:Marteen’s Restaurant\, 2 W Main St\, Everett\, PA\, 15537\, United States
END:VEVENT
BEGIN:VEVENT
DTSTART;TZID=UTC:20220602T183000
DTEND;TZID=UTC:20220602T200000
DTSTAMP:20260420T053118
CREATED:20210603T215827Z
LAST-MODIFIED:20210604T030538Z
UID:10000023-1654194600-1654200000@everettpalions.net
SUMMARY:Meeting at Marteen’s in Everett
DESCRIPTION:Marteen’s in Everett
URL:https://everettpalions.net/event/meeting/2022-06-02/
LOCATION:Marteen’s Restaurant\, 2 W Main St\, Everett\, PA\, 15537\, United States
END:VEVENT
BEGIN:VEVENT
DTSTART;TZID=UTC:20220519T183000
DTEND;TZID=UTC:20220519T200000
DTSTAMP:20260420T053118
CREATED:20260217T180548Z
LAST-MODIFIED:20260217T180548Z
UID:10000139-1652985000-1652990400@everettpalions.net
SUMMARY:Meeting at Marteen’s in Everett
DESCRIPTION:Marteen’s in Everett
URL:https://everettpalions.net/event/meeting/2022-05-19/
LOCATION:Marteen’s Restaurant\, 2 W Main St\, Everett\, PA\, 15537\, United States
END:VEVENT
BEGIN:VEVENT
DTSTART;TZID=UTC:20220505T183000
DTEND;TZID=UTC:20220505T200000
DTSTAMP:20260420T053118
CREATED:20210603T215827Z
LAST-MODIFIED:20210604T030538Z
UID:10000022-1651775400-1651780800@everettpalions.net
SUMMARY:Meeting at Marteen’s in Everett
DESCRIPTION:Marteen’s in Everett
URL:https://everettpalions.net/event/meeting/2022-05-05/
LOCATION:Marteen’s Restaurant\, 2 W Main St\, Everett\, PA\, 15537\, United States
END:VEVENT
BEGIN:VEVENT
DTSTART;TZID=UTC:20220421T183000
DTEND;TZID=UTC:20220421T200000
DTSTAMP:20260420T053118
CREATED:20260217T180548Z
LAST-MODIFIED:20260217T180548Z
UID:10000138-1650565800-1650571200@everettpalions.net
SUMMARY:Meeting at Marteen’s in Everett
DESCRIPTION:Marteen’s in Everett
URL:https://everettpalions.net/event/meeting/2022-04-21/
LOCATION:Marteen’s Restaurant\, 2 W Main St\, Everett\, PA\, 15537\, United States
END:VEVENT
BEGIN:VEVENT
DTSTART;TZID=UTC:20220407T183000
DTEND;TZID=UTC:20220407T200000
DTSTAMP:20260420T053118
CREATED:20210603T215827Z
LAST-MODIFIED:20210604T030538Z
UID:10000021-1649356200-1649361600@everettpalions.net
SUMMARY:Meeting at Marteen’s in Everett
DESCRIPTION:Marteen’s in Everett
URL:https://everettpalions.net/event/meeting/2022-04-07/
LOCATION:Marteen’s Restaurant\, 2 W Main St\, Everett\, PA\, 15537\, United States
END:VEVENT
END:VCALENDAR